BEGIN:VCALENDAR
VERSION:2.0
PRODID:spatie/icalendar-generator
DESCRIPTION:Events from Koka Sub | Dive Center
X-WR-CALDESC:Events from Koka Sub | Dive Center
REFRESH-INTERVAL;VALUE=DURATION:PT1440M
X-PUBLISHED-TTL:PT1440M
BEGIN:VTIMEZONE
TZID:America/Sao_Paulo
BEGIN:STANDARD
DTSTART:20250827T140000Z
TZOFFSETFROM:-0300
TZOFFSETTO:-0300
END:STANDARD
END:VTIMEZONE
BEGIN:VTIMEZONE
TZID:UTC
BEGIN:STANDARD
DTSTART:20250725T152117Z
TZOFFSETFROM:+0000
TZOFFSETTO:+0000
END:STANDARD
END:VTIMEZONE
BEGIN:VEVENT
UID:1668-1658
DTSTAMP:20260421T152117Z
SUMMARY:Curso Coral Reef Conservation Presencial
LOCATION:
ORGANIZER;CN=kokasub:MAILTO:kokasub@kokasub.com.br
DTSTART;TZID=America/Sao_Paulo:20260524T140000
DTEND;TZID=America/Sao_Paulo:20260524T180000
X-ALT-DESC;FMTTYPE=TEXT/HTML:
CATEGORIES:Curso Presencial
URL;VALUE=URI:https://kokasub.com.br/mc-events/curso-coral-reef-conservatio
 n-presencial-32/
METHOD:PUBLISH
END:VEVENT
END:VCALENDAR